BEGIN:VCALENDAR
VERSION:2.0
PRODID:-//Kanu-Verein Meissen - ECPv6.15.20//NONSGML v1.0//EN
CALSCALE:GREGORIAN
METHOD:PUBLISH
X-WR-CALNAME:Kanu-Verein Meissen
X-ORIGINAL-URL:https://www.kanu-meissen.de
X-WR-CALDESC:Veranstaltungen für Kanu-Verein Meissen
REFRESH-INTERVAL;VALUE=DURATION:PT1H
X-Robots-Tag:noindex
X-PUBLISHED-TTL:PT1H
BEGIN:VTIMEZONE
TZID:Europe/Berlin
BEGIN:DAYLIGHT
TZOFFSETFROM:+0100
TZOFFSETTO:+0200
TZNAME:CEST
DTSTART:20220327T010000
END:DAYLIGHT
BEGIN:STANDARD
TZOFFSETFROM:+0200
TZOFFSETTO:+0100
TZNAME:CET
DTSTART:20221030T010000
END:STANDARD
BEGIN:DAYLIGHT
TZOFFSETFROM:+0100
TZOFFSETTO:+0200
TZNAME:CEST
DTSTART:20230326T010000
END:DAYLIGHT
BEGIN:STANDARD
TZOFFSETFROM:+0200
TZOFFSETTO:+0100
TZNAME:CET
DTSTART:20231029T010000
END:STANDARD
BEGIN:DAYLIGHT
TZOFFSETFROM:+0100
TZOFFSETTO:+0200
TZNAME:CEST
DTSTART:20240331T010000
END:DAYLIGHT
BEGIN:STANDARD
TZOFFSETFROM:+0200
TZOFFSETTO:+0100
TZNAME:CET
DTSTART:20241027T010000
END:STANDARD
BEGIN:DAYLIGHT
TZOFFSETFROM:+0100
TZOFFSETTO:+0200
TZNAME:CEST
DTSTART:20250330T010000
END:DAYLIGHT
BEGIN:STANDARD
TZOFFSETFROM:+0200
TZOFFSETTO:+0100
TZNAME:CET
DTSTART:20251026T010000
END:STANDARD
BEGIN:DAYLIGHT
TZOFFSETFROM:+0100
TZOFFSETTO:+0200
TZNAME:CEST
DTSTART:20260329T010000
END:DAYLIGHT
BEGIN:STANDARD
TZOFFSETFROM:+0200
TZOFFSETTO:+0100
TZNAME:CET
DTSTART:20261025T010000
END:STANDARD
BEGIN:DAYLIGHT
TZOFFSETFROM:+0100
TZOFFSETTO:+0200
TZNAME:CEST
DTSTART:20270328T010000
END:DAYLIGHT
BEGIN:STANDARD
TZOFFSETFROM:+0200
TZOFFSETTO:+0100
TZNAME:CET
DTSTART:20271031T010000
END:STANDARD
END:VTIMEZONE
BEGIN:VEVENT
DTSTART;VALUE=DATE:20260419
DTEND;VALUE=DATE:20260420
DTSTAMP:20260421T112231
CREATED:20260210T203937Z
LAST-MODIFIED:20260210T203937Z
UID:1951-1776556800-1776643199@www.kanu-meissen.de
SUMMARY:Wettkampf Dresden
DESCRIPTION:
URL:https://www.kanu-meissen.de/event/wettkampf-dresden/
CATEGORIES:Slalom
END:VEVENT
BEGIN:VEVENT
DTSTART;VALUE=DATE:20260418
DTEND;VALUE=DATE:20260419
DTSTAMP:20260421T112231
CREATED:20260210T203908Z
LAST-MODIFIED:20260210T203908Z
UID:1948-1776470400-1776556799@www.kanu-meissen.de
SUMMARY:Wettkampf Coswig
DESCRIPTION:
URL:https://www.kanu-meissen.de/event/wettkampf-coswig/
CATEGORIES:Slalom
END:VEVENT
BEGIN:VEVENT
DTSTART;TZID=Europe/Berlin:20260411T100000
DTEND;TZID=Europe/Berlin:20260411T170000
DTSTAMP:20260421T112231
CREATED:20260211T140901Z
LAST-MODIFIED:20260211T140946Z
UID:2062-1775901600-1775926800@www.kanu-meissen.de
SUMMARY:Großes Dresdner Anpaddeln "100 Jahre ESV"
DESCRIPTION:
URL:https://www.kanu-meissen.de/event/grosses-dresdner-anpaddeln-100-jahre-esv/
LOCATION:VDK Tolkewitz
CATEGORIES:Allgemein
END:VEVENT
BEGIN:VEVENT
DTSTART;VALUE=DATE:20260410
DTEND;VALUE=DATE:20260411
DTSTAMP:20260421T112231
CREATED:20260210T203832Z
LAST-MODIFIED:20260210T203832Z
UID:1945-1775779200-1775865599@www.kanu-meissen.de
SUMMARY:Trainingslager Prag
DESCRIPTION:
URL:https://www.kanu-meissen.de/event/trainingslager-prag/
CATEGORIES:Slalom
END:VEVENT
BEGIN:VEVENT
DTSTART;VALUE=DATE:20260409
DTEND;VALUE=DATE:20260410
DTSTAMP:20260421T112231
CREATED:20260210T203801Z
LAST-MODIFIED:20260210T203801Z
UID:1942-1775692800-1775779199@www.kanu-meissen.de
SUMMARY:Trainingslager Zeitz
DESCRIPTION:
URL:https://www.kanu-meissen.de/event/trainingslager-zeitz/
CATEGORIES:Slalom
END:VEVENT
BEGIN:VEVENT
DTSTART;TZID=Europe/Berlin:20260406T080000
DTEND;TZID=Europe/Berlin:20260406T170000
DTSTAMP:20260421T112231
CREATED:20260211T140701Z
LAST-MODIFIED:20260211T140701Z
UID:2059-1775462400-1775494800@www.kanu-meissen.de
SUMMARY:Osterpaddeln Meissen - Strehla
DESCRIPTION:
URL:https://www.kanu-meissen.de/event/osterpaddeln-meissen-strehla/
LOCATION:Bootshaus Meissen
CATEGORIES:Touristik
END:VEVENT
BEGIN:VEVENT
DTSTART;TZID=Europe/Berlin:20260329T080000
DTEND;TZID=Europe/Berlin:20260329T170000
DTSTAMP:20260421T112231
CREATED:20260211T140533Z
LAST-MODIFIED:20260211T140533Z
UID:2056-1774771200-1774803600@www.kanu-meissen.de
SUMMARY:gemeinsames Anpaddeln (Riesa mit Drachenbooten)
DESCRIPTION:
URL:https://www.kanu-meissen.de/event/gemeinsames-anpaddeln-riesa-mit-drachenbooten/
CATEGORIES:Allgemein
END:VEVENT
BEGIN:VEVENT
DTSTART;VALUE=DATE:20260329
DTEND;VALUE=DATE:20260330
DTSTAMP:20260421T112231
CREATED:20260210T203622Z
LAST-MODIFIED:20260210T203622Z
UID:1936-1774742400-1774828799@www.kanu-meissen.de
SUMMARY:Anpaddeln mit Drachenbooot
DESCRIPTION:von Meißen nach Riesa
URL:https://www.kanu-meissen.de/event/anpaddeln-mit-drachenbooot/
CATEGORIES:Slalom,Touristik
END:VEVENT
BEGIN:VEVENT
DTSTART;TZID=Europe/Berlin:20260328T080000
DTEND;TZID=Europe/Berlin:20260328T170000
DTSTAMP:20260421T112231
CREATED:20260211T140327Z
LAST-MODIFIED:20260211T140426Z
UID:2049-1774684800-1774717200@www.kanu-meissen.de
SUMMARY:Frühjahrs Slalom
DESCRIPTION:
URL:https://www.kanu-meissen.de/event/fruehjahrs-slalom/
LOCATION:Slalomgelände
CATEGORIES:Slalom
END:VEVENT
BEGIN:VEVENT
DTSTART;TZID=Europe/Berlin:20260328T080000
DTEND;TZID=Europe/Berlin:20260328T170000
DTSTAMP:20260421T112231
CREATED:20260211T135926Z
LAST-MODIFIED:20260211T140132Z
UID:2043-1774684800-1774717200@www.kanu-meissen.de
SUMMARY:Anpaddeln des Sächsischen Kanuverbandes Mulde (Leisnig - Grimma)
DESCRIPTION:
URL:https://www.kanu-meissen.de/event/anpaddeln-des-saechsischen-kanuverbandes/
CATEGORIES:Touristik
END:VEVENT
BEGIN:VEVENT
DTSTART;VALUE=DATE:20260328
DTEND;VALUE=DATE:20260329
DTSTAMP:20260421T112231
CREATED:20260210T203716Z
LAST-MODIFIED:20260210T203716Z
UID:1939-1774656000-1774742399@www.kanu-meissen.de
SUMMARY:Meißner Frühjahrsslalom
DESCRIPTION:
URL:https://www.kanu-meissen.de/event/meissner-fruehjahrsslalom/
CATEGORIES:Slalom
END:VEVENT
BEGIN:VEVENT
DTSTART;TZID=Europe/Berlin:20260321T090000
DTEND;TZID=Europe/Berlin:20260321T150000
DTSTAMP:20260421T112231
CREATED:20260116T151327Z
LAST-MODIFIED:20260127T212421Z
UID:1917-1774083600-1774105200@www.kanu-meissen.de
SUMMARY:Frühjahrsputz Bootshaus
DESCRIPTION:
URL:https://www.kanu-meissen.de/event/fruehjahrsputz-bootshaus/
LOCATION:Bootshaus Meissen
CATEGORIES:Touristik
ORGANIZER;CN="SG Kanu Mei%C3%9Fen e.V.":MAILTO:touristik@kanu-meissen.de
END:VEVENT
BEGIN:VEVENT
DTSTART;VALUE=DATE:20260314
DTEND;VALUE=DATE:20260315
DTSTAMP:20260421T112231
CREATED:20260210T203512Z
LAST-MODIFIED:20260210T203512Z
UID:1933-1773446400-1773532799@www.kanu-meissen.de
SUMMARY:Frühjahrsputz Slalom
DESCRIPTION:
URL:https://www.kanu-meissen.de/event/fruehjahrsputz-slalom/
CATEGORIES:Slalom
END:VEVENT
BEGIN:VEVENT
DTSTART;TZID=Europe/Berlin:20260307T080000
DTEND;TZID=Europe/Berlin:20260307T170000
DTSTAMP:20260421T112231
CREATED:20260211T135603Z
LAST-MODIFIED:20260211T135603Z
UID:2040-1772870400-1772902800@www.kanu-meissen.de
SUMMARY:Frühjahrwanderung Sächsische Schweiz
DESCRIPTION:
URL:https://www.kanu-meissen.de/event/fruehjahrwanderung-saechsische-schweiz/
CATEGORIES:Allgemein
END:VEVENT
BEGIN:VEVENT
DTSTART;VALUE=DATE:20260307
DTEND;VALUE=DATE:20260308
DTSTAMP:20260421T112231
CREATED:20260210T203422Z
LAST-MODIFIED:20260210T203422Z
UID:1930-1772841600-1772927999@www.kanu-meissen.de
SUMMARY:Indoor Dracenbbot
DESCRIPTION:
URL:https://www.kanu-meissen.de/event/indoor-dracenbbot/
CATEGORIES:Slalom
END:VEVENT
BEGIN:VEVENT
DTSTART;TZID=Europe/Berlin:20260226T170000
DTEND;TZID=Europe/Berlin:20260226T200000
DTSTAMP:20260421T112231
CREATED:20260211T135126Z
LAST-MODIFIED:20260211T135400Z
UID:2035-1772125200-1772136000@www.kanu-meissen.de
SUMMARY:Filmnachmittag
DESCRIPTION:
URL:https://www.kanu-meissen.de/event/filmnachmittag/
LOCATION:Bootshaus Meissen
CATEGORIES:Allgemein
ORGANIZER;CN="SG Kanu Mei%C3%9Fen e.V.":MAILTO:touristik@kanu-meissen.de
END:VEVENT
BEGIN:VEVENT
DTSTART;TZID=Europe/Berlin:20250919T160000
DTEND;TZID=Europe/Berlin:20250921T170000
DTSTAMP:20260421T112231
CREATED:20250829T152128Z
LAST-MODIFIED:20250829T152128Z
UID:1882-1758297600-1758474000@www.kanu-meissen.de
SUMMARY:Weinfestfahrt 2025
DESCRIPTION:               \n  \nZeit: \nSamstag\, der 20.09.2025 \nStart: \n10:00 Uhr Ruderverein Pirna (Elb-km 34\,4) \nZiel: \nBootshaus der SG Kanu Meißen e.V. (Elb-km 81\,7) \nStartgebühren: \n8\,00 € (beinhaltet ein Stück Zwiebelkuchen und ein Glas Federweißer pro Person nach Ankunft am 20.09.25 im Bootshaus Meißen) \nDie Übernachtung wird getrennt davon kassiert.  \n\nAlle Zahlungen sind bei Ankunft im Bootshaus der SG Kanu Meißen zu leisten. \n  \nMeldeschluss: \n07.09.25 \nFreitag\, den 19.09.25: \nAnkunft im Bootshaus der SGKM und Bootstransport in Eigenregie zum Pirnaer Ruderverein \nhttp://www.pirnaer-ruderverein.de/\n(evtl. begrenzter Bootstransport durch uns möglich) \nSamstag\, den 20.09.25: \nMit der Bahn 8:21 Uhr ab Meißen (Sammelkarte möglich) \n10:00 Uhr Start in Pirna. Einkehrmöglichkeiten unterwegs vorhanden. \nNach Ankunft in Meißen gibt es ein Stück Zwiebelkuchen und ein Glas Federweißen\, gegen Bezahlung auch mehr.\nAn den Abenden besteht die Möglichkeit\, das Weinfest in Meißen zu besuchen. \nSonntag\, den 21.09.25: \nBei Interesse Fahrt von Meißen nach Diesbar in Eigenregie\, \na b 10:00 Uhr Festumzug zum Weinfest oberhalb des Bootshauses. \nService: \nGetränke sind auf dem Gelände der SGKM erhältlich. \nAnmeldung: \nOnline unter   touristik@kanu-meissen.de \nTelefonisch :  Bernhard Kunath\, 01520 4980994\nHomepage:     www.kanu-meissen.de \nHaftung: \nAlle Teilnehmer starten auf eigene Gefahr; jegliche Haftung des Veranstalters\, \nauch bei Ausfall der Veranstaltung\, ist ausgeschlossen.
URL:https://www.kanu-meissen.de/event/weinfestfahrt-2025/
ORGANIZER;CN="SG Kanu Mei%C3%9Fen e.V.":MAILTO:touristik@kanu-meissen.de
END:VEVENT
BEGIN:VEVENT
DTSTART;TZID=Europe/Berlin:20250516T170000
DTEND;TZID=Europe/Berlin:20250518T160000
DTSTAMP:20260421T112231
CREATED:20250402T204649Z
LAST-MODIFIED:20250405T192057Z
UID:1828-1747414800-1747584000@www.kanu-meissen.de
SUMMARY:Meißner Mai-Fahrt 2025
DESCRIPTION:(Änderung bedingt durch den Brückeneinsturz der Carola- Elbebrücke ) \n  \nTermin:                          Fr.       16.05.25 bis 18.05.25 \nStart:                               Sa.       10:00 Uhr Vereinsgelände SG Kanu Meißen \nZiel:                                 Sa.                  Strehla / Elbeparkplatz         33 km \nStartgebühren:          12 Euro (beinhalten die Übernachtungen im Zelt vom 16.05 bis 18.05. für DKV-Mitglieder) \n  \nMeldeschluss:            14.05.25 \n  \nFreitag:                         16.05.     Ankunft im Bootshaus der SG Kanu Meißen \n  \nSonnabend:                 17.05.    Start in Meißen \n  \nRückfahrt:                Bootstransport in Eigenregie (evtl. Bootstransport durch uns möglich) \ngemeinsames Grillen von Bratwürsten und Steaks auf dem Bootsgelände Kanuverein Meißen. Getränke sind auf dem Bootsgelände erhältlich. \n  \nSonntag:                    18.05.    bei Interesse Besichtigung der Porzellanmanufaktur und Burganlage in Meissen \n  \nAnmeldung:              Online unter  maifahrt@kanu-meissen.de \n                                       Tel.                     0173 9948934 \n  \n  \nHaftung:                    Alle Teilnehmer starten auf eigener Gefahr\, jegliche Haftung des Veranstalters\, auch bei Ausfall der Veranstaltung ist ausgeschlossen.
URL:https://www.kanu-meissen.de/event/meissner-mai-fahrt-2025/
ORGANIZER;CN="SG Kanu Mei%C3%9Fen e.V.":MAILTO:touristik@kanu-meissen.de
END:VEVENT
BEGIN:VEVENT
DTSTART;TZID=Europe/Berlin:20240927T160000
DTEND;TZID=Europe/Berlin:20240929T170000
DTSTAMP:20260421T112231
CREATED:20240715T195505Z
LAST-MODIFIED:20240716T192557Z
UID:1699-1727452800-1727629200@www.kanu-meissen.de
SUMMARY:Weinfestfahrt 2024
DESCRIPTION:Zeit: \nSonnabend\, den 28.09.2024 \nStart: \n10:00 Uhr Ruderverein Pirna (Elb-km 34\,4) \nZiel: \nBootshaus der SG Kanu Meißen e.V. (Elb-km 81\,7) \nStartgebühren: \n8\,00 € (beinhaltet ein Stück Zwiebelkuchen und ein Glas Federweißer pro Person nach Ankunft am 28.09.24 im Bootshaus Meißen) \nDie Übernachtung wird getrennt davon kassiert.  \n\nAlle Zahlungen sind bei Ankunft im Bootshaus der SG Kanu Meißen zu leisten. \n  \nMeldeschluss: \n14.09.24 \nFreitag\, den 27.09.24: \nAnkunft im Bootshaus der SGKM und Bootstransport in Eigenregie zum Pirnaer Ruderverein \nhttp://www.pirnaer-ruderverein.de/\n(evtl. begrenzter Bootstransport durch uns möglich) \nSamstag\, den 28.09.24: \nMit der Bahn 8:19 Uhr ab Meißen (Sammelkarte möglich) \n10:00 Uhr Start in Pirna. Einkehrmöglichkeiten unterwegs vorhanden. \nNach Ankunft in Meißen gibt es ein Stück Zwiebelkuchen und ein Glas Federweißen\, gegen Bezahlung auch mehr.\nAn den Abenden besteht die Möglichkeit\, das Weinfest in Meißen zu besuchen. \nSonntag\, den 29.09.24: \nBei Interesse Fahrt von Meißen nach Diesbar in Eigenregie \n12:00 Uhr Festumzug zum Weinfest oberhalb des Bootshauses \nService: \nGetränke sind auf dem Gelände der SGKM erhältlich. \nAnmeldung: \nOnline unter   touristik@kanu-meissen.de \nTelefonisch :   Regine Rühlow\, 03521- 736434\nHomepage:     www.kanu-meissen.de \nHaftung: \nAlle Teilnehmer starten auf eigene Gefahr; jegliche Haftung des Veranstalters\, \nauch bei Ausfall der Veranstaltung\, ist ausgeschlossen.
URL:https://www.kanu-meissen.de/event/weinfestfahrt-2024/
ORGANIZER;CN="SG Kanu Mei%C3%9Fen e.V.":MAILTO:touristik@kanu-meissen.de
END:VEVENT
BEGIN:VEVENT
DTSTART;VALUE=DATE:20231202
DTEND;VALUE=DATE:20231203
DTSTAMP:20260421T112231
CREATED:20230815T182003Z
LAST-MODIFIED:20230815T182003Z
UID:1472-1701475200-1701561599@www.kanu-meissen.de
SUMMARY:Hallenslalom Gera
DESCRIPTION:
URL:https://www.kanu-meissen.de/event/hallenslalom-gera/
END:VEVENT
BEGIN:VEVENT
DTSTART;VALUE=DATE:20230929
DTEND;VALUE=DATE:20231002
DTSTAMP:20260421T112231
CREATED:20230815T181917Z
LAST-MODIFIED:20230815T181917Z
UID:1469-1695945600-1696204799@www.kanu-meissen.de
SUMMARY:DMJJ Markkleeberg
DESCRIPTION:
URL:https://www.kanu-meissen.de/event/dmjj-markkleeberg/
CATEGORIES:Slalom
END:VEVENT
BEGIN:VEVENT
DTSTART;VALUE=DATE:20230923
DTEND;VALUE=DATE:20230924
DTSTAMP:20260421T112231
CREATED:20230815T181826Z
LAST-MODIFIED:20230815T181826Z
UID:1466-1695427200-1695513599@www.kanu-meissen.de
SUMMARY:Schülerwettkampf Halle
DESCRIPTION:
URL:https://www.kanu-meissen.de/event/schuelerwettkampf-halle/
CATEGORIES:Slalom
END:VEVENT
BEGIN:VEVENT
DTSTART;TZID=Europe/Berlin:20230922T160000
DTEND;TZID=Europe/Berlin:20230924T170000
DTSTAMP:20260421T112231
CREATED:20230812T144550Z
LAST-MODIFIED:20230812T145114Z
UID:1442-1695398400-1695574800@www.kanu-meissen.de
SUMMARY:Weinfestfahrt 2023
DESCRIPTION:Zeit: \nSonnabend\, den 23.09.2023 \nStart: \n10:00 Uhr Ruderverein Pirna (Elb-km 34\,4) \nZiel: \nBootshaus der SG Kanu Meißen e.V. (Elb-km 81\,7) \nStartgebühren: \n20\,00 € (beinhaltet die Übernachtung im Zelt vom 22.09.bis 24.09.23 \nsowie ein Stück Zwiebelkuchen und ein Glas Federweißer pro Person \nnach Ankunft am 23.09.23 im Bootshaus Meißen) \nAlle Zahlungen sind bei Ankunft im Bootshaus der SG Kanu Meißen zu leisten. \nMeldeschluss: \n10.09.23 \nFreitag\, den 22.09.23: \nAnkunft im Bootshaus der SGKM und Bootstransport in Eigenregie zum Pirnaer Ruderverein \nhttp://www.pirnaer-ruderverein.de/\n(evtl. begrenzter Bootstransport durch uns möglich) \nSamstag\, den 23.09.23: \nMit der Bahn 8:21 Uhr ab Meißen (Sammelkarte möglich) \n10:00 Uhr Start in Pirna. Einkehrmöglichkeiten unterwegs vorhanden. \nNach Ankunft in Meißen gibt es ein Stück Zwiebelkuchen und ein Glas Federweißen\, gegen Bezahlung auch mehr.\nAn den Abenden besteht die Möglichkeit\, das Weinfest in Meißen zu besuchen. \nSonntag\, den 24.09.23: \nBei Interesse Fahrt von Meißen nach Diesbar in Eigenregie \n12:00 Uhr Festumzug zum Weinfest oberhalb des Bootshauses \nService: \nGetränke sind auf dem Gelände der SGKM erhältlich. \nAnmeldung: \nOnline unter   touristik@kanu-meissen.de \nTelefonisch :   Regine Rühlow\, 03521- 736434\nHomepage:     www.kanu-meissen.de \nHaftung: \nAlle Teilnehmer starten auf eigene Gefahr; jegliche Haftung des Veranstalters\, \nauch bei Ausfall der Veranstaltung\, ist ausgeschlossen.
URL:https://www.kanu-meissen.de/event/weinfestfahrt-2023/
CATEGORIES:Touristik
ORGANIZER;CN="SG Kanu Mei%C3%9Fen e.V.":MAILTO:touristik@kanu-meissen.de
END:VEVENT
BEGIN:VEVENT
DTSTART;TZID=Europe/Berlin:20230916T080000
DTEND;TZID=Europe/Berlin:20230916T150000
DTSTAMP:20260421T112231
CREATED:20230815T181643Z
LAST-MODIFIED:20230815T181643Z
UID:1463-1694851200-1694876400@www.kanu-meissen.de
SUMMARY:Stadtmeisterschaft
DESCRIPTION:
URL:https://www.kanu-meissen.de/event/stadtmeisterschaft-2/
CATEGORIES:Slalom
END:VEVENT
BEGIN:VEVENT
DTSTART;VALUE=DATE:20230907
DTEND;VALUE=DATE:20230911
DTSTAMP:20260421T112231
CREATED:20230815T181608Z
LAST-MODIFIED:20230815T181724Z
UID:1460-1694044800-1694390399@www.kanu-meissen.de
SUMMARY:DM Schüler Zeitz
DESCRIPTION:
URL:https://www.kanu-meissen.de/event/dm-schueler-zeitz/
CATEGORIES:Slalom
END:VEVENT
BEGIN:VEVENT
DTSTART;VALUE=DATE:20230902
DTEND;VALUE=DATE:20230903
DTSTAMP:20260421T112231
CREATED:20230815T181520Z
LAST-MODIFIED:20230815T181742Z
UID:1457-1693612800-1693699199@www.kanu-meissen.de
SUMMARY:MDM Spremberg
DESCRIPTION:
URL:https://www.kanu-meissen.de/event/mdm-spremberg/
CATEGORIES:Slalom
END:VEVENT
BEGIN:VEVENT
DTSTART;VALUE=DATE:20230826
DTEND;VALUE=DATE:20230828
DTSTAMP:20260421T112231
CREATED:20230815T181425Z
LAST-MODIFIED:20230815T181425Z
UID:1454-1693008000-1693180799@www.kanu-meissen.de
SUMMARY:Bundesoffener Wettkampf Veltrusy
DESCRIPTION:
URL:https://www.kanu-meissen.de/event/bundesoffener-wettkampf-veltrusy/
CATEGORIES:Slalom
END:VEVENT
BEGIN:VEVENT
DTSTART;VALUE=DATE:20230624
DTEND;VALUE=DATE:20230626
DTSTAMP:20260421T112231
CREATED:20230105T085528Z
LAST-MODIFIED:20230105T150913Z
UID:1206-1687564800-1687737599@www.kanu-meissen.de
SUMMARY:DC CUP in Roudnice
DESCRIPTION:
URL:https://www.kanu-meissen.de/event/dc-cup-in-roudnice/
CATEGORIES:Slalom
END:VEVENT
BEGIN:VEVENT
DTSTART;VALUE=DATE:20230618
DTEND;VALUE=DATE:20230620
DTSTAMP:20260421T112231
CREATED:20230105T085450Z
LAST-MODIFIED:20230105T085450Z
UID:1203-1687053600-1687139999@www.kanu-meissen.de
SUMMARY:KKJSS in Meißen
DESCRIPTION:
URL:https://www.kanu-meissen.de/event/kkjss-in-meissen/
CATEGORIES:Slalom
END:VEVENT
BEGIN:VEVENT
DTSTART;VALUE=DATE:20230617
DTEND;VALUE=DATE:20230619
DTSTAMP:20260421T112231
CREATED:20230105T085419Z
LAST-MODIFIED:20230105T085419Z
UID:1200-1686967200-1687053599@www.kanu-meissen.de
SUMMARY:WK in Zschopau
DESCRIPTION:
URL:https://www.kanu-meissen.de/event/wk-in-zschopau/
CATEGORIES:Slalom
END:VEVENT
END:VCALENDAR